BEGIN:VCALENDAR
VERSION:2.0
PRODID:-//ChamberMaster//Event Calendar 2.0//EN
METHOD:PUBLISH
X-PUBLISHED-TTL:P3D
REFRESH-INTERVAL:P3D
CALSCALE:GREGORIAN
BEGIN:VEVENT
DTSTART:20120623T010000Z
DTEND:20120623T040000Z
X-MICROSOFT-CDO-ALLDAYEVENT:FALSE
SUMMARY:Friday Nights LIVE!
DESCRIPTION:Sponsored by The Claremont Chamber of Commerce\, The City of Claremont\, the Tolkin Group and the Village Marketing Group.\n\n	For additional information call Claremont Chamber of Commerce at 909-624-1681 or email contact@claremontchamber.org.
X-ALT-DESC;FMTTYPE=text/html:Sponsored by The Claremont Chamber of Commerce\, The City of Claremont\, the Tolkin Group and the Village Marketing Group.\n<p>\n	For additional information call Claremont Chamber of Commerce at 909-624-1681 or email contact@claremontchamber.org.</p>\n
LOCATION:Locations in The Claremont Village
UID:e.838.2286
SEQUENCE:3
DTSTAMP:20260422T072808Z
URL:http://business.claremontchamber.org/events/details/friday-nights-live-06-22-2012-2286
END:VEVENT

END:VCALENDAR
