BEGIN:VCALENDAR
VERSION:2.0
PRODID:-//ChamberMaster//Event Calendar 2.0//EN
METHOD:PUBLISH
X-PUBLISHED-TTL:P3D
REFRESH-INTERVAL:P3D
CALSCALE:GREGORIAN
BEGIN:VEVENT
DTSTART:20121027T010000Z
DTEND:20121027T040000Z
X-MICROSOFT-CDO-ALLDAYEVENT:FALSE
SUMMARY:Friday Nights LIVE!
DESCRIPTION:Sponsored by The Claremont Chamber of Commerce\, The City of Claremont\, the Tolkin Group and the Village Marketing Group.\n\n	For additional information call Claremont Chamber of Commerce at 909-624-1681 or email contact@claremontchamber.org.
X-ALT-DESC;FMTTYPE=text/html:Sponsored by The Claremont Chamber of Commerce\, The City of Claremont\, the Tolkin Group and the Village Marketing Group.\n<p>\n	For additional information call Claremont Chamber of Commerce at 909-624-1681 or email contact@claremontchamber.org.</p>\n
LOCATION:Locations in The Claremont Village
UID:e.838.2304
SEQUENCE:3
DTSTAMP:20260422T052749Z
URL:http://business.claremontchamber.org/events/details/friday-nights-live-10-26-2012-2304
END:VEVENT

END:VCALENDAR
