BEGIN:VCALENDAR
VERSION:2.0
PRODID:-//ChamberMaster//Event Calendar 2.0//EN
METHOD:PUBLISH
X-PUBLISHED-TTL:P3D
REFRESH-INTERVAL:P3D
CALSCALE:GREGORIAN
BEGIN:VEVENT
DTSTART:20121113T153000Z
DTEND:20121113T170000Z
X-MICROSOFT-CDO-ALLDAYEVENT:FALSE
SUMMARY:Networking Breakfast 11/13/12
DESCRIPTION:Chamber Networking Breakfast\n\nsecond Tuesday of every month\n\n\n\nNovember's presentation by Pacific Advisors
X-ALT-DESC;FMTTYPE=text/html:Chamber Networking Breakfast<br />\nsecond Tuesday of every month<br />\n<br />\nNovember&#39\;s presentation by<strong> Pacific Advisors</strong>
LOCATION:DoubleTree by Hilton Claremont 555 W Foothill Blvd Claremont 91711
UID:e.838.2538
SEQUENCE:3
DTSTAMP:20260422T095604Z
URL:http://business.claremontchamber.org/events/details/networking-breakfast-11-13-12-11-13-2012-2538
END:VEVENT

END:VCALENDAR
