BEGIN:VCALENDAR
VERSION:2.0
PRODID:-//ChamberMaster//Event Calendar 2.0//EN
METHOD:PUBLISH
X-PUBLISHED-TTL:P3D
REFRESH-INTERVAL:P3D
CALSCALE:GREGORIAN
BEGIN:VEVENT
DTSTART:20100330T160000Z
DTEND:20100330T180000Z
X-MICROSOFT-CDO-ALLDAYEVENT:FALSE
SUMMARY:Spring Celebration
DESCRIPTION:Spring Celebration
X-ALT-DESC;FMTTYPE=text/html:Spring Celebration
LOCATION:Memorial Park\, 840 N. Indian Hill Blvd.
UID:e.838.5415
SEQUENCE:3
DTSTAMP:20260420T021221Z
URL:http://business.claremontchamber.org/events/details/spring-celebration-03-30-2010-5415
END:VEVENT

END:VCALENDAR
