BEGIN:VCALENDAR
VERSION:2.0
PRODID:-//ChamberMaster//Event Calendar 2.0//EN
METHOD:PUBLISH
X-PUBLISHED-TTL:P3D
REFRESH-INTERVAL:P3D
CALSCALE:GREGORIAN
BEGIN:VEVENT
DTSTART:20181111T040000Z
DTEND:20181111T060000Z
X-MICROSOFT-CDO-ALLDAYEVENT:FALSE
SUMMARY:The Blankety Blank Presents Adventures At Hogwarts
DESCRIPTION:Presented by Ophelia's Jump\n\nInspired by the Harry Potter book series\, each show is a completely improvised two act play set in the wonderful wizarding school of Hogwarts! Wacky wizards\, talking beasts\, magical mysteries\, and a main character possibly based on YOU come together to create unique storylines and surprises that are different in every performance. This show is family friendly!\n\nThe Blankety Blank is a Southern California based improv team that brings you full plays in the styles of various literary and theatrical genres. Other genres they have brought to OJP include "Paranormal High"\, "Menagerie on a Hot Tin Streetcar"\, "Sense & Prejudice"\, and "The Phizz-Whizzing Adventures of Roald Dahl".
X-ALT-DESC;FMTTYPE=text/html:<p><strong>Presented by Ophelia&#39\;s Jump</strong><br />\nInspired by the Harry Potter book series\, each show is a completely improvised two act play set in the wonderful wizarding school of Hogwarts! Wacky wizards\, talking beasts\, magical mysteries\, and a main character possibly based on YOU come together to create unique storylines and surprises that are different in every performance. This show is family friendly!</p>\n\n<p>The Blankety Blank is a Southern California based improv team that brings you full plays in the styles of various literary and theatrical genres. Other genres they have brought to OJP include &ldquo\;Paranormal High&rdquo\;\, &ldquo\;Menagerie on a Hot Tin Streetcar&rdquo\;\, &ldquo\;Sense &amp\; Prejudice&rdquo\;\, and &ldquo\;The Phizz-Whizzing Adventures of Roald Dahl&rdquo\;.</p>\n
LOCATION:2009 Porterfield Way\, Suite H\, Upland\, CA 91786 | 909 734-6565 | info@opheliasjump.org
UID:e.838.20649
SEQUENCE:3
DTSTAMP:20260419T085637Z
URL:http://business.claremontchamber.org/events/details/the-blankety-blank-presents-adventures-at-hogwarts-11-10-2018-20649
END:VEVENT

END:VCALENDAR
