BEGIN:VCALENDAR
VERSION:2.0
PRODID:-//ChamberMaster//Event Calendar 2.0//EN
METHOD:PUBLISH
X-PUBLISHED-TTL:P3D
REFRESH-INTERVAL:P3D
CALSCALE:GREGORIAN
BEGIN:VEVENT
DTSTART;VALUE=DATE:20151101
DTEND;VALUE=DATE:20151201
TRANSP:TRANSPARENT
X-MICROSOFT-CDO-ALLDAYEVENT:TRUE
SUMMARY:$1 Enrollment Fee Special
DESCRIPTION:Come in NOW and take advantage of our $1 enrollement special. \n\n\n\nBasic Membership gives you access to top of the line Selectorized Weight equipment\, Tons of Cardio Equipment with each one with their own personal TV. We also have free weight equipment\, from plate loaded machines to dumbells. Enjoy our Cardio Movie Theatre where we play a different movie every day so you can get your cardio done while watching an exciting movie. We provide full size locker rooms with private showers\, all you need to do is bring your own lock.\n\n\n\nAll this for just $19.99 per month and just for November you get the 13th month free.\n\n\n\nWait...\n\n\n\nWe also offer a VIP Membership for just $29.99.\n\n\n\nGet everything you get with the basic membership plus additional amenities such as:\n\n- Unlimited Child Sitting (M-F @ 7am to 11 am and 4pm to 8pm) (1 Child)\n\n- Unlimited Guest Privileges (1 Guest)\n\n- Unlimited Group Classes (Yoga\, Spin\, Zumba\, BodyPump\, etc...)\n\n- Unlimited Tanning (18 yrs+)\n\n\n\nAll new member will recieve a fitness orientation with one of our Certified Personal Trainers ($100 value). Gives us a chance to see what we can do to help you get to your goals. We provide body fat percentage\, BMI\, Health Age\, 3D image of you before and after. All of this\, plus a free 30 minute Personal Training session.\n\n\n\nWe look forward to see you\,\n\n\n\nRetro Fitness of Pomona
X-ALT-DESC;FMTTYPE=text/html:Come in NOW and take advantage of our $1 enrollement special.&nbsp\;<br />\n<br />\nBasic Membership gives you access to top of the line Selectorized Weight equipment\, Tons of Cardio Equipment with each one with their own personal TV. We also have free weight equipment\, from plate loaded machines to dumbells. Enjoy our Cardio Movie Theatre where we play a different movie every day so you can get your cardio done while watching an exciting movie. We provide full size locker rooms with private showers\, all you need to do is bring your own lock.<br />\n<br />\nAll this for just $19.99 per month and just for November you get the 13th month free.<br />\n<br />\nWait...<br />\n<br />\nWe also offer a VIP Membership for just $29.99.<br />\n<br />\nGet everything you get with the basic membership plus additional amenities such as:<br />\n- Unlimited Child Sitting (M-F @ 7am to 11 am and 4pm to 8pm) (1 Child)<br />\n- Unlimited Guest Privileges (1 Guest)<br />\n- Unlimited Group Classes (Yoga\, Spin\, Zumba\, BodyPump\, etc...)<br />\n- Unlimited Tanning (18 yrs+)<br />\n<br />\nAll new member will recieve a fitness orientation with one of our Certified Personal Trainers ($100 value). Gives us a chance to see what we can do to help you get to your goals. We provide body fat percentage\, BMI\, Health Age\, 3D image of you before and after. All of this\, plus a free 30 minute Personal Training session.<br />\n<br />\nWe look forward to see you\,<br />\n<br />\nRetro Fitness of Pomona
LOCATION:675 E Foothill Blvd\, Pomona\, CA\, 91767
UID:e.838.11426
SEQUENCE:3
DTSTAMP:20260426T024356Z
URL:https://business.claremontchamber.org/events/details/1-enrollment-fee-special-11-01-2015-11426
END:VEVENT

END:VCALENDAR
