BEGIN:VCALENDAR
VERSION:2.0
PRODID:-//ChamberMaster//Event Calendar 2.0//EN
METHOD:PUBLISH
X-PUBLISHED-TTL:P3D
REFRESH-INTERVAL:P3D
CALSCALE:GREGORIAN
BEGIN:VEVENT
DTSTART:20180131T153000Z
DTEND:20180131T180000Z
X-MICROSOFT-CDO-ALLDAYEVENT:FALSE
SUMMARY:2018 Employment Law and HR Update- Seminar
DESCRIPTION:This seminar will discuss the most recent changes in HR\, Insurance Benefits\, Payroll and Safety regulations for 2018.  \n\n \n\nSome of our Hot Topics include: \n\n	"Ban the Box" Background Check Legislation and how it can affect your employment application\n	Salary History Restrictions\n	The New Immigration Regulations\n	Small Business Parental Leave Act \n	Minimum Wage Increase and its continuing impact\n	The Cleaning Product Right to Know Act \n	Recent Court Rulings \n	And so much more       \n\nClick Here to Download Flyer\n\n\n\nSponsored by JR Consulting.
X-ALT-DESC;FMTTYPE=text/html:<span style="font-family:arial\,sans-serif\;"><span style="font-size:10.0pt\;">This seminar will discuss the most recent changes in HR\, Insurance Benefits\, Payroll and Safety regulations for 2018. &nbsp\;</span></span><br />\n&nbsp\;<br />\n<span style="font-family:arial\,sans-serif\;"><span style="font-size:11.0pt\;">Some of our Hot Topics include: </span></span>\n<ul>\n	<li><span style="font-family:arial\,sans-serif\;"><span style="font-size:11.0pt\;">&ldquo\;Ban the Box&rdquo\; Background Check Legislation and how it can affect your employment application</span></span></li>\n	<li><span style="font-family:arial\,sans-serif\;"><span style="font-size:11.0pt\;">Salary History Restrictions</span></span></li>\n	<li><span style="font-family:arial\,sans-serif\;"><span style="font-size:11.0pt\;">The New Immigration Regulations</span></span></li>\n	<li><span style="font-family:arial\,sans-serif\;"><span style="font-size:11.0pt\;">Small Business Parental Leave Act </span></span></li>\n	<li><span style="font-family:arial\,sans-serif\;"><span style="font-size:11.0pt\;">Minimum Wage Increase and its continuing impact</span></span></li>\n	<li><span style="font-family:arial\,sans-serif\;"><span style="font-size:11.0pt\;">The Cleaning Product Right to Know Act </span></span></li>\n	<li><span style="font-family:arial\,sans-serif\;"><span style="font-size:11.0pt\;">Recent Court Rulings </span></span></li>\n	<li><span style="font-family:arial\,sans-serif\;"><span style="font-size:11.0pt\;">And so much more&hellip\;&nbsp\; &nbsp\; &nbsp\;&nbsp\;</span></span></li>\n</ul>\n<a href="https://chambermaster.blob.core.windows.net/userfiles/UserFiles/chambers/838/File/2018SeminarFlyerClaremontChamber.doc" style="font-family: arial\, sans-serif\; font-size: 13.3333px\;"><span style="color:#FF0000\;">Click Here</span></a><span style="font-family: arial\, sans-serif\; font-size: 13.3333px\;"><span style="color:#FF0000\;">&nbsp\;</span>to Download Flyer</span><br />\n<br />\n<span style="font-family:arial\,sans-serif\;"><span style="font-size:11.0pt\;">Sponsored by JR Consulting.</span></span>
LOCATION:Pomona Valley Health Center 1601 Monte Vista Ave\, Claremont
UID:e.838.17214
SEQUENCE:3
DTSTAMP:20260423T010703Z
URL:https://business.claremontchamber.org/events/details/2018-employment-law-and-hr-update-seminar-17214
END:VEVENT

END:VCALENDAR
