BEGIN:VCALENDAR
VERSION:2.0
PRODID:-//ChamberMaster//Event Calendar 2.0//EN
METHOD:PUBLISH
X-PUBLISHED-TTL:P3D
REFRESH-INTERVAL:P3D
CALSCALE:GREGORIAN
BEGIN:VEVENT
DTSTART:20180922T160000Z
DTEND:20180922T180000Z
X-MICROSOFT-CDO-ALLDAYEVENT:FALSE
SUMMARY:2018 Mid Year Outlook
DESCRIPTION:Please Join\n\nSuzanne H. Christian\, CFP  \n\nfor the\n\n2018 Mid-Year Outlook\n\n\n\nPlease RSVP\n\nfor you and your interested guests by September 17th\n\nReservations are required as seating is limited.\n\nCall 909-625-1052
X-ALT-DESC;FMTTYPE=text/html:<div style="text-align: center\;">Please Join<br />\nSuzanne H. Christian\, CFP &reg\;<br />\nfor the<br />\n2018 Mid-Year Outlook<br />\n<br />\nPlease RSVP<br />\nfor you and your interested guests by September 17th<br />\nReservations are required as seating is limited.<br />\nCall 909-625-1052<br />\n&nbsp\;</div>\n
LOCATION:Walter's Restaurant 316 Yale Avenue\, Claremont\, CA 91711
UID:e.838.20284
SEQUENCE:3
DTSTAMP:20260421T201307Z
URL:https://business.claremontchamber.org/events/details/2018-mid-year-outlook-20284
END:VEVENT

END:VCALENDAR
