BEGIN:VCALENDAR
VERSION:2.0
PRODID:-//ChamberMaster//Event Calendar 2.0//EN
METHOD:PUBLISH
X-PUBLISHED-TTL:P3D
REFRESH-INTERVAL:P3D
CALSCALE:GREGORIAN
BEGIN:VEVENT
DTSTART:20180622T160000Z
DTEND:20180622T223000Z
X-MICROSOFT-CDO-ALLDAYEVENT:FALSE
SUMMARY:2018 Women's Leadership Conference\, The Power of YOU
DESCRIPTION:Executive Women International\, Pomona Valley Chapter presents the 2018 Women's Leadership Conference:  The Power of YOU\n\nFriday\, June 22\, 2018 from 9:00 AM - 3:30 PM.  DoubleTree by Hilton Claremont\, 555 W. Foothill Blvd. Claremont\, CA  \n\nFor more information\, sponsorship opportunities\, or to purchase tickets\, please visit www.ewiwlc.com
X-ALT-DESC;FMTTYPE=text/html:Executive Women International\, Pomona Valley Chapter presents the 2018 Women&#39\;s Leadership Conference:&nbsp\; The Power of YOU<br />\nFriday\, June 22\, 2018 from 9:00 AM - 3:30 PM.&nbsp\; DoubleTree by Hilton Claremont\, 555 W. Foothill Blvd. Claremont\, CA&nbsp\;&nbsp\;<br />\nFor more information\, sponsorship opportunities\, or to purchase tickets\, please visit www.ewiwlc.com&nbsp\;
LOCATION:DoubleTree by Hilton Claremont 555 West Foothill Blvd.\, Claremont\, CA 91711
UID:e.838.18896
SEQUENCE:3
DTSTAMP:20260422T042230Z
URL:https://business.claremontchamber.org/events/details/2018-women-s-leadership-conference-the-power-of-you-18896
END:VEVENT

END:VCALENDAR
