BEGIN:VCALENDAR
VERSION:2.0
PRODID:-//ChamberMaster//Event Calendar 2.0//EN
METHOD:PUBLISH
X-PUBLISHED-TTL:P3D
REFRESH-INTERVAL:P3D
CALSCALE:GREGORIAN
BEGIN:VEVENT
DTSTART:20180425T210000Z
DTEND:20180425T230000Z
X-MICROSOFT-CDO-ALLDAYEVENT:FALSE
SUMMARY:25th Anniversary of The Robert & Beverly Lewis Family Cancer Care Center
DESCRIPTION:Join us in Celebration of our 25th Anniversary of Caring for the Community! Entertainment\, Refreshments\, Photo Booth.
X-ALT-DESC;FMTTYPE=text/html:Join us in Celebration of our 25th Anniversary of Caring for the Community! Entertainment\, Refreshments\, Photo Booth.
LOCATION:1910 Royalty Drive\, Pomona
UID:e.838.17847
SEQUENCE:3
DTSTAMP:20260422T104336Z
URL:https://business.claremontchamber.org/events/details/25th-anniversary-of-the-robert-beverly-lewis-family-cancer-care-center-17847
END:VEVENT

END:VCALENDAR
