BEGIN:VCALENDAR
VERSION:2.0
PRODID:-//ChamberMaster//Event Calendar 2.0//EN
METHOD:PUBLISH
X-PUBLISHED-TTL:P3D
REFRESH-INTERVAL:P3D
CALSCALE:GREGORIAN
BEGIN:VEVENT
DTSTART:20261024T160000Z
DTEND:20261025T000000Z
X-MICROSOFT-CDO-ALLDAYEVENT:FALSE
SUMMARY:44th Village Venture Arts & Crafts Festival
DESCRIPTION:The Claremont Chamber of Commerce proudly presents the 44th Village Venture Arts & Crafts Festival!\n\nFor more information\, please visit villageventure.com \n\nTo sponsor Village Venture\, please click here for the sponsorship form.
X-ALT-DESC;FMTTYPE=text/html:<h1 style="font-weight: bold\; line-height: 1.1\; box-sizing: border-box\; margin-right: 0px\; margin-bottom: 12px\; margin-left: 0px\; padding: 0px\; direction: ltr\; font-family: &quot\;Open Sans&quot\;\, Helvetica\, Arial\, sans-serif\; color: rgb(34\, 34\, 34)\; text-rendering: optimizelegibility\; margin-top: 4px !important\; font-size: 32px !important\;"><strong style="box-sizing: border-box\;">The Claremont Chamber of Commerce proudly presents the 44th Village Venture Arts &amp\; Crafts Festival!</strong></h1>\n\n<div><span style="color: rgb(34\, 34\, 34)\; font-family: &quot\;Open Sans&quot\;\, Helvetica\, Arial\, sans-serif\; font-size: 14px\;">For more information\, please visit <a href="http://villageventure.com">villageventure.com&nbsp\;</a><br />\nTo sponsor Village Venture\, <a href="https://form.jotform.com/260925955943167">please click here for the sponsorship form.</a></span></div>\n
LOCATION:The Claremont Village
UID:e.838.48689
SEQUENCE:3
DTSTAMP:20260423T154445Z
URL:https://business.claremontchamber.org/events/details/44th-village-venture-arts-crafts-festival-48689
END:VEVENT

END:VCALENDAR
