BEGIN:VCALENDAR
VERSION:2.0
PRODID:-//ChamberMaster//Event Calendar 2.0//EN
METHOD:PUBLISH
X-PUBLISHED-TTL:P3D
REFRESH-INTERVAL:P3D
CALSCALE:GREGORIAN
BEGIN:VEVENT
DTSTART:20181019T000000Z
DTEND:20181019T013000Z
X-MICROSOFT-CDO-ALLDAYEVENT:FALSE
SUMMARY:5 Year Anniversary Ribbon Cutting & Unicorn Party
DESCRIPTION:Join us to celebrate!  Check out our new spices and food delicacies!\n\nEnjoy a unicorn magic cocktail!\n\n\n\nRaffles\, prizes\, refreshments and more!
X-ALT-DESC;FMTTYPE=text/html:Join us to celebrate!&nbsp\; Check out our new spices and food delicacies!<br />\nEnjoy a unicorn magic cocktail!<br />\n<br />\nRaffles\, prizes\, refreshments and more!
LOCATION:101 N. Indian Hill Blvd C2-100\, Claremont
UID:e.838.20288
SEQUENCE:3
DTSTAMP:20260421T202344Z
URL:https://business.claremontchamber.org/events/details/5-year-anniversary-ribbon-cutting-unicorn-party-20288
END:VEVENT

END:VCALENDAR
