BEGIN:VCALENDAR
VERSION:2.0
PRODID:-//ChamberMaster//Event Calendar 2.0//EN
METHOD:PUBLISH
X-PUBLISHED-TTL:P3D
REFRESH-INTERVAL:P3D
CALSCALE:GREGORIAN
BEGIN:VEVENT
DTSTART:20180701T020000Z
DTEND:20180701T050000Z
X-MICROSOFT-CDO-ALLDAYEVENT:FALSE
SUMMARY:A Night Under the Stars Benefit for Ophelia's Jump
DESCRIPTION:"A horse\, a horse! My kingdom for a horse!" OK\, so we don't really need horses\, but there is a lot that we do need to keep OJP up and running. Help us continue to move forward\, bringing outstanding theatre to the area!\n\n\n\nJoin us for an evening of food\, drink\, music\, entertainment\, silent and live auctions - all under the stars at the beautiful Sontag Greek Theatre at Pomona College.\n\n\n\nFor ticketing and sponsorship information\, please visit the Ophelia's Jump website.\n\n\n\nOphelia's Jump is a 501(c)(3) charitable organization.
X-ALT-DESC;FMTTYPE=text/html:<em>&ldquo\;A horse\, a horse! My kingdom for a horse!&rdquo\; </em>OK\, so we don&rsquo\;t really need horses\, but there is a lot that we do need to keep OJP up and running. Help us continue to move forward\, bringing outstanding theatre to the area!<br />\n<br />\nJoin us for an evening of food\, drink\, music\, entertainment\, silent and live auctions - all under the stars at the beautiful Sontag Greek Theatre at Pomona College.<br />\n<br />\nFor ticketing and sponsorship information\, please visit the Ophelia&#39\;s Jump website.<br />\n<br />\nOphelia&#39\;s Jump is a 501(c)(3) charitable organization.
LOCATION:Sontag Greek Theatre Pomona College
UID:e.838.18908
SEQUENCE:3
DTSTAMP:20260422T021735Z
URL:https://business.claremontchamber.org/events/details/a-night-under-the-stars-benefit-for-ophelia-s-jump-06-30-2018-18908
END:VEVENT

END:VCALENDAR
