BEGIN:VCALENDAR
VERSION:2.0
PRODID:-//ChamberMaster//Event Calendar 2.0//EN
METHOD:PUBLISH
X-PUBLISHED-TTL:P3D
REFRESH-INTERVAL:P3D
CALSCALE:GREGORIAN
BEGIN:VEVENT
DTSTART:20170702T020000Z
DTEND:20170702T050000Z
X-MICROSOFT-CDO-ALLDAYEVENT:FALSE
SUMMARY:A Night Under the Stars Benefit for Ophelia's Jump
DESCRIPTION:This event is sponsored by Ophelia's Jump Productions.\n\n\n\n"All the world's a stage"...but theatres also need seats\, and props\, and costumes\, and plubing\, and paint and electricians. We have a space\, now help us build a theatre!\n\n\n\n\n	\n	Join us for a community even at the Sontag Theatre for an evening of entertainment\, small plates\, silent auction and a live auction supported by local businesses and theatre lovers.\n	\n\n\n\n\n\nHow this Fundraiser will support Ophelia's Jump:\n\n\n	Funds that have been going to theater rentals\, storage rentals\, and temporary equipment rental can go to raising production values\, paying artists fairly for their work\, and community programs. \n\n\n\n\n\n\n\n	Lower advertising costs since we won't have to keep educating audiences about our location and venue. \n\n\n\n\n\n\n\n	A place for revenue generating workshops\, classes\, and short run theatrical events such as improv and comedy sketch shows.\n	A place for community gatherings and community events. Rehearsal space. \n\n\n\n\n\n\n\n	A brick and mortar box office where patrons can conveniently purchase tickets and get questions answered at set office hours.\n	Access to more grants.\n	Ability to better use volunteer resources. \n	A venue for Reader's Theatre\, Youth Theatre\, and Emerging Playwrights Workshops.
X-ALT-DESC;FMTTYPE=text/html:<p><big><span style="font-size:12px"><em>This event is sponsored by Ophelia&#39\;s Jump Productions.</em><br />\n<br />\n&quot\;All the world&#39\;s a stage&quot\;...but theatres also need seats\, and props\, and costumes\, and plubing\, and paint and electricians. We have a space\, now help us build a theatre!</span></big></p>\n\n<div>\n<div>\n<ol start="0" style="list-style-type:none">\n	<li>\n	<p><big><span style="font-size:12px">Join us for a community even at the Sontag Theatre for an evening of entertainment\, small plates\, silent auction and a live auction supported by local businesses and theatre lovers.</span></big></p>\n	</li>\n</ol>\n</div>\n\n<div>\n<div>\n<p><big><span style="font-size:12px"><span style="font-family:arial\,helvetica\,sans-serif"><strong><em>How this Fundraiser will support Ophelia&#39\;s Jump:</em></strong></span></span></big></p>\n\n<ul>\n	<li><big><span style="font-size:12px"><span style="font-family:arial\,helvetica\,sans-serif">Funds that have been going to theater rentals\, storage rentals\, and temporary equipment rental can go to raising production values\, paying artists fairly for their work\, and community programs. </span></span></big></li>\n</ul>\n</div>\n</div>\n\n<div>\n<div>\n<ul>\n	<li><big><span style="font-size:12px"><span style="font-family:arial\,helvetica\,sans-serif">Lower advertising costs since we won&rsquo\;t have to keep educating audiences about our location and venue.&nbsp\;</span></span></big></li>\n</ul>\n</div>\n</div>\n\n<div>\n<div>\n<ul>\n	<li><big><span style="font-size:12px"><span style="font-family:arial\,helvetica\,sans-serif">A place for revenue generating workshops\, classes\, and short run theatrical events such as improv and comedy sketch shows.</span></span></big></li>\n	<li><span style="font-family:arial\,helvetica\,sans-serif\; font-size:12px">A place for community gatherings and community events. Rehearsal space.&nbsp\;</span></li>\n</ul>\n</div>\n</div>\n\n<div>\n<div>\n<ul>\n	<li><big><span style="font-size:12px"><span style="font-family:arial\,helvetica\,sans-serif">A brick and mortar box office where patrons can conveniently purchase tickets and get questions answered at set office hours.</span></span></big></li>\n	<li><span style="font-family:arial\,helvetica\,sans-serif\; font-size:12px">Access to more grants.</span></li>\n	<li><span style="font-family:arial\,helvetica\,sans-serif\; font-size:12px">Ability to better use volunteer resources.&nbsp\;</span></li>\n	<li><span style="font-family:arial\,helvetica\,sans-serif\; font-size:12px">A venue for Reader&rsquo\;s Theatre\, Youth Theatre\, and Emerging Playwrights Workshops.&nbsp\;</span></li>\n</ul>\n</div>\n</div>\n</div>\n
LOCATION:Sontag Greek Theatre Pomona College
UID:e.838.16339
SEQUENCE:3
DTSTAMP:20260424T084521Z
URL:https://business.claremontchamber.org/events/details/a-night-under-the-stars-benefit-for-ophelia-s-jump-16339
END:VEVENT

END:VCALENDAR
