BEGIN:VCALENDAR
VERSION:2.0
PRODID:-//ChamberMaster//Event Calendar 2.0//EN
METHOD:PUBLISH
X-PUBLISHED-TTL:P3D
REFRESH-INTERVAL:P3D
CALSCALE:GREGORIAN
BEGIN:VEVENT
DTSTART:20170528T230000Z
DTEND:20170529T003000Z
X-MICROSOFT-CDO-ALLDAYEVENT:FALSE
SUMMARY:Affordable Vaccinations by Vetco
DESCRIPTION:This event is sponsored by Unleashed by Petco.\n\n\n\nProtect Your Best Friend! Our caring\, state-licensed veterinarians are here to help keep your pet healthy. Services Provided:  Vaccinations\, Microchip\, Heartworm Test & Prevention\, Deworming\, Flea & Tick Control. No appointment needed.
X-ALT-DESC;FMTTYPE=text/html:<em>This event is sponsored by Unleashed by&nbsp\;Petco.</em><br />\n<br />\nProtect Your Best Friend! Our caring\, state-licensed veterinarians are here to help keep your pet healthy. Services Provided:&nbsp\; Vaccinations\, Microchip\, Heartworm Test &amp\; Prevention\, Deworming\, Flea &amp\; Tick Control. No appointment needed.
LOCATION:Unleashed by Petco in Claremont 905 Foothill Blvd Claremont\, CA 91711
UID:e.838.16288
SEQUENCE:3
DTSTAMP:20260424T100111Z
URL:https://business.claremontchamber.org/events/details/affordable-vaccinations-by-vetco-05-28-2017-16288
END:VEVENT

END:VCALENDAR
