BEGIN:VCALENDAR
VERSION:2.0
PRODID:-//ChamberMaster//Event Calendar 2.0//EN
METHOD:PUBLISH
X-PUBLISHED-TTL:P3D
REFRESH-INTERVAL:P3D
CALSCALE:GREGORIAN
BEGIN:VEVENT
DTSTART:20180414T020000Z
DTEND:20180414T040000Z
X-MICROSOFT-CDO-ALLDAYEVENT:FALSE
SUMMARY:Alpha Launch Night at Life as ONE Church
DESCRIPTION:What is the purpose of life? Is there a God? Is there more to life than this?\n\nYou might have asked yourself these questions but have never taken the time to explore them.\n\nAlpha is a series of interactive sessions that explores the basics of faith and Christian faith in a friendly\, open and safe environment. All questions are welcomed. Each session includes food\, a talk on a basic Christian topic\, and a discussion. Alpha is for everyone no matter their background or beliefs.\n\nWe will have a Launch Night on Friday\, January 26th at 7:00pm till 9:00pm at Life as ONE church and will run until Friday\, April 20th. Alpha is totally free and we encourage you to invite a friend. If you have questions\, please feel free to contact us - Alpha@lifeasone.org.\n\nLearn more about Alpha here - https://vimeo.com/182419434.\n\n*Note - There is no childcare available during Alpha.
X-ALT-DESC;FMTTYPE=text/html:<p>What is the purpose of life? Is there a God? Is there more to life than this?</p>\n\n<p>You might have asked yourself these questions but have never taken the time to explore them.</p>\n\n<p>Alpha is a series of interactive sessions that explores the basics of faith and Christian faith in a friendly\, open and safe environment. All questions are welcomed. Each session includes food\, a talk on a basic Christian topic\, and a discussion. Alpha is for everyone no matter their background or beliefs.</p>\n\n<p><span style="color:#FF0000"><strong>We will have a Launch Night on Friday\, January 26th at 7:00pm till 9:00pm at Life as ONE church and will run until Friday\, April 20th</strong></span>.&nbsp\;Alpha is totally free and we encourage you to invite a friend.&nbsp\;If you have questions\, please feel free to contact us -&nbsp\;<a href="mailto:Alpha@lifeasone.org" rel="noopener noreferrer nofollow" style="color: rgb(2\, 120\, 184)\; text-decoration-line: none\;" target="_blank">Alpha@lifeasone.org</a>.</p>\n\n<p>Learn more about Alpha here -&nbsp\;<a href="https://vimeo.com/182419434" rel="noopener noreferrer nofollow" style="color: rgb(2\, 120\, 184)\; text-decoration-line: none\; padding-top: 0px\;" target="_blank">https://vimeo.com/182419434</a>.</p>\n\n<p>*Note - There is no childcare available during Alpha.</p>\n
LOCATION:Life as ONE Church 1291 N. Indian Hill Blvd. Suite B Claremont\, CA 91711
UID:e.838.17416
SEQUENCE:3
DTSTAMP:20260422T101154Z
URL:https://business.claremontchamber.org/events/details/alpha-launch-night-at-life-as-one-church-04-13-2018-17416
END:VEVENT

END:VCALENDAR
