BEGIN:VCALENDAR
VERSION:2.0
PRODID:-//ChamberMaster//Event Calendar 2.0//EN
METHOD:PUBLISH
X-PUBLISHED-TTL:P3D
REFRESH-INTERVAL:P3D
CALSCALE:GREGORIAN
BEGIN:VEVENT
DTSTART:20171203T190000Z
DTEND:20171203T210000Z
X-MICROSOFT-CDO-ALLDAYEVENT:FALSE
SUMMARY:Alternative Christmas Fair
DESCRIPTION:Give the gift of food\, clean water\, shelter\, or education to those in need!\n\n\n\nEach year Claremont UCC sponsors the "Alternative Christmas Fair".  During the Fair our Mission Partners staff booths representing their organization inside of our church's Sanctuary. The Fair provides the organizations the opportunity to solicit donations and volunteers to benefit the goals of their organization. It provides members of the congregation and other shoppers  the opportunity to give the gift of goods and services to those in need. Donations may purchase goods such as a case of peanut butter for the Hope Partners food pantry\, a bus pass for a Foothill Aids Project client\, or counseling services for an abused child. Shoppers receive gift cards acknowledging their donation which they may send to family members or friends in lieu of a material Christmas gift.
X-ALT-DESC;FMTTYPE=text/html:<span style="font-size:14px"><span style="font-family:arial\,helvetica\,sans-serif">Give the gift of food\, clean water\, shelter\, or education to those in need!<br />\n<br />\nEach year Claremont UCC sponsors the &quot\;Alternative Christmas Fair&quot\;.&nbsp\;&nbsp\;During the Fair our Mission Partners staff booths representing their organization inside of our church&#39\;s Sanctuary. The Fair provides the organizations the opportunity to solicit donations and volunteers to benefit the goals of their organization. It provides members of the congregation and other shoppers &nbsp\;the opportunity to give the gift of goods and services to those in need. Donations may purchase goods such as a case of peanut butter for the Hope Partners food pantry\, a bus pass for a Foothill Aids Project client\, or counseling services for an abused child. Shoppers receive gift cards acknowledging their donation which they may send to family members or friends in lieu of a material Christmas gift.<br />\n&nbsp\;</span></span><br />\n&nbsp\;
LOCATION:Claremont United Church of Christ Sanctuary 233 W. Harrison Ave. Claremont\, CA 91711
UID:e.838.17199
SEQUENCE:3
DTSTAMP:20260423T130341Z
URL:https://business.claremontchamber.org/events/details/alternative-christmas-fair-17199
END:VEVENT

END:VCALENDAR
