BEGIN:VCALENDAR
VERSION:2.0
PRODID:-//ChamberMaster//Event Calendar 2.0//EN
METHOD:PUBLISH
X-PUBLISHED-TTL:P3D
REFRESH-INTERVAL:P3D
CALSCALE:GREGORIAN
BEGIN:VEVENT
DTSTART:20180708T150000Z
DTEND:20180708T210000Z
X-MICROSOFT-CDO-ALLDAYEVENT:FALSE
SUMMARY:American Red Cross Blood Drive
DESCRIPTION:Claremont UCC will be hosting a blood drive next Sunday\, July 8\, from 8:00 am-2:00 pm in the Refectory Basement.  Walk-ins are welcome\, but we do suggest making an appointment ahead of time.\n\n\n\nTo sign up\, simply contact the church office at (909) 626-1201 or email officemanager@claremontucc.org.\n\n\n\nTo help your appointment go faster next week\, visit www.redcrossblood.org and fill out a RapidPass!  Just click on "Donate Blood"\, then click on "Start RapidPass".
X-ALT-DESC;FMTTYPE=text/html:<p><span style="font-family:arial\,helvetica\,sans-serif"><span style="color:black"><span style="font-size:12.0pt">Claremont UCC will be hosting a blood drive next Sunday\, July 8\, from 8:00 am-2:00 pm in the Refectory Basement.&nbsp\; Walk-ins are welcome\, but we do suggest making an appointment ahead of time.</span></span><br />\n<br />\n<span style="color:black"><span style="font-size:12.0pt">To sign up\, simply contact the church office at (909) 626-1201 or email&nbsp\;<a href="mailto:officemanager@claremontucc.org">officemanager@claremontucc.org</a>.</span></span><br />\n<br />\n<span style="color:black"><span style="font-size:12.0pt">To help your appointment go faster next week\, visit <a href="http://www.redcrossblood.org">www.redcrossblood.org</a><em><span style="color:black"><span style="font-size:12.0pt"> </span></span></em>and fill out a RapidPass!&nbsp\; Just click on &ldquo\;Donate Blood&rdquo\;\, then click on &ldquo\;Start RapidPass&rdquo\;. </span></span><br />\n&nbsp\;</span></p>\n
LOCATION:Claremont United Church of Christ Refectory Basement 233 W. Harrison Ave. Claremont\, CA 91711
UID:e.838.19579
SEQUENCE:3
DTSTAMP:20260422T002300Z
URL:https://business.claremontchamber.org/events/details/american-red-cross-blood-drive-07-08-2018-19579
END:VEVENT

END:VCALENDAR
