BEGIN:VCALENDAR
VERSION:2.0
PRODID:-//ChamberMaster//Event Calendar 2.0//EN
METHOD:PUBLISH
X-PUBLISHED-TTL:P3D
REFRESH-INTERVAL:P3D
CALSCALE:GREGORIAN
BEGIN:VEVENT
DTSTART:20180225T170000Z
DTEND:20180225T230000Z
X-MICROSOFT-CDO-ALLDAYEVENT:FALSE
SUMMARY:American Red Cross Blood Drive
DESCRIPTION:The American Red Cross needs you!  Come donate blood on Sunday\, February 25 at Claremont United Church of Christ. \n\n\n\nTo make an appointment ahead of time\, call (909) 626-1201 or email officemanager@claremontucc.org.
X-ALT-DESC;FMTTYPE=text/html:<strong>The American Red Cross needs you!&nbsp\; </strong>Come donate blood on Sunday\, February 25 at Claremont United Church of Christ.&nbsp\;<br />\n<br />\nTo make an appointment ahead of time\, call (909) 626-1201 or email officemanager@claremontucc.org.
LOCATION:Claremont United Church of Christ 233 W. Harrison Ave. Claremont\, CA 91711
UID:e.838.17611
SEQUENCE:3
DTSTAMP:20260422T231417Z
URL:https://business.claremontchamber.org/events/details/american-red-cross-blood-drive-17611
END:VEVENT

END:VCALENDAR
