BEGIN:VCALENDAR
VERSION:2.0
PRODID:-//ChamberMaster//Event Calendar 2.0//EN
METHOD:PUBLISH
X-PUBLISHED-TTL:P3D
REFRESH-INTERVAL:P3D
CALSCALE:GREGORIAN
BEGIN:VEVENT
DTSTART:20161001T013000Z
DTEND:20160930T190000Z
X-MICROSOFT-CDO-ALLDAYEVENT:FALSE
SUMMARY:An Evening in Casablanca
DESCRIPTION:Set against the sultry backdrop of Morocco\, this casino night fundraiser features great food\,drinks and entertainment!An Evening in Casablanca is Your chance to place your bet at the roulette table\,sample Moroccan-inspired cuisine\, and bid on the fabulous action items while helping children with special needs.
X-ALT-DESC;FMTTYPE=text/html:<div><span style="font-family:arial\;">Set against the sultry backdrop of Morocco\, this casino night fundraiser features great food\,drinks and entertainment!An Evening in Casablanca is Your chance to place your bet at the roulette table\,sample Moroccan-inspired cuisine\, and bid on the fabulous action items while helping children with special needs.</span></div>\n
LOCATION:The Winner's Circle (adjacent to The Finish Line Sports Grill) 2201 N. White Ave. Pomona\, CA 91768
UID:e.838.13622
SEQUENCE:3
DTSTAMP:20260425T021035Z
URL:https://business.claremontchamber.org/events/details/an-evening-in-casablanca-13622
END:VEVENT

END:VCALENDAR
