BEGIN:VCALENDAR
VERSION:2.0
PRODID:-//ChamberMaster//Event Calendar 2.0//EN
METHOD:PUBLISH
X-PUBLISHED-TTL:P3D
REFRESH-INTERVAL:P3D
CALSCALE:GREGORIAN
BEGIN:VEVENT
DTSTART:20170601T210000Z
DTEND:20170602T010000Z
X-MICROSOFT-CDO-ALLDAYEVENT:FALSE
SUMMARY:Annual Health2Wealth Expo - Aging and Wellness
DESCRIPTION:This event is sponsored by Claremont Small Business Specialist.\n\n\n\nAsian Business Association Inland Empire in partnership with Claremont Small Business Specialist is hosting its annual community event that attracts over 500 people from around Inland Empire\, Orange and Los Angeles counties. Natural foods\, alternative health\, wealth\, business exhibits\, fitness demos\, yoga\, health screenings\, special guest speakers and so much more!
X-ALT-DESC;FMTTYPE=text/html:<em>This event is sponsored by Claremont Small Business Specialist.</em><br />\n<br />\n<strong>Asian Business Association Inland Empire</strong>&nbsp\;in partnership with Claremont Small Business Specialist is hosting its annual community event that attracts over 500 people from around Inland Empire\, Orange and Los Angeles counties. Natural foods\, alternative health\, wealth\, business exhibits\, fitness demos\, yoga\, health screenings\, special guest speakers and so much more!
LOCATION:Chaffey College Chino Community Center 5890 College Park Avenue Chino\, CA
UID:e.838.16327
SEQUENCE:3
DTSTAMP:20260424T084437Z
URL:https://business.claremontchamber.org/events/details/annual-health2wealth-expo-aging-and-wellness-16327
END:VEVENT

END:VCALENDAR
