BEGIN:VCALENDAR
VERSION:2.0
PRODID:-//ChamberMaster//Event Calendar 2.0//EN
METHOD:PUBLISH
X-PUBLISHED-TTL:P3D
REFRESH-INTERVAL:P3D
CALSCALE:GREGORIAN
BEGIN:VEVENT
DTSTART:20180609T140000Z
DTEND:20180609T180000Z
X-MICROSOFT-CDO-ALLDAYEVENT:FALSE
SUMMARY:Anthesis 7th Annual Run/Walk "Power of the Flower"
DESCRIPTION:Join Anthesis (formerly PVW) 7th Annual Run/Walk "Power of the Flower" at the Fairplex in Pomona\, benefiting adults with [dis]abilities! We will have a 1K Race and a 5K Race. Registration for the event is $25 for Adults (13 and over) and $15 for Children (12 and under). We will have family fun activities\, an opportunity drawing with lots of prizes\, and a delicious pancake breakfast for $5.00! This year's theme is "Power of the Flower"\, and we encourage everyone to wear a 60's themed costume. You can also raise funds and awareness for adults with [dis]abilities as an individual fundraiser or a team fundraiser\, and win prizes for being a top fundraiser. Our goal this year is to raise $50\,000. Click here for more information or to sign up.
X-ALT-DESC;FMTTYPE=text/html:Join Anthesis (formerly PVW) 7th Annual Run/Walk &quot\;Power of the Flower&quot\; at the Fairplex in Pomona\,&nbsp\;benefiting&nbsp\;adults with [dis]abilities! We will have a 1K Race and a 5K Race.&nbsp\;Registration for the&nbsp\;event is $25 for Adults (13 and over) and $15 for Children (12 and under).&nbsp\;We will have family fun activities\, an opportunity drawing with lots of prizes\, and a delicious pancake breakfast for $5.00! This year&rsquo\;s theme is &ldquo\;Power of the Flower&rdquo\;\, and we encourage everyone to wear a 60&rsquo\;s themed costume. You can also raise funds and awareness for adults with [dis]abilities as an individual fundraiser or a team fundraiser\, and win prizes for being a top fundraiser. Our goal this year is to raise $50\,000. <a href="https://anthesis.salsalabs.org/runwalk2018poweroftheflower/index.html">Click here for more information or to sign up. </a>
LOCATION:Fairplex in Pomona 1101 W McKinley Ave Pomona\, CA 91768
UID:e.838.17781
SEQUENCE:3
DTSTAMP:20260422T052142Z
URL:https://business.claremontchamber.org/events/details/anthesis-7th-annual-run-walk-power-of-the-flower-17781
END:VEVENT

END:VCALENDAR
