BEGIN:VCALENDAR
VERSION:2.0
PRODID:-//ChamberMaster//Event Calendar 2.0//EN
METHOD:PUBLISH
X-PUBLISHED-TTL:P3D
REFRESH-INTERVAL:P3D
CALSCALE:GREGORIAN
BEGIN:VEVENT
DTSTART:20190124T020000Z
DTEND:20190124T050000Z
X-MICROSOFT-CDO-ALLDAYEVENT:FALSE
SUMMARY:Anthesis Annual Association Dinner
DESCRIPTION:Anthesis Annual Association Dinner "All that Jazz" is quickly approaching\, and we are excited for all that is in store! Not only will we be at a new venue\, but we will also have live jazz music by Amanda Castro. For tickets or sponsorship information\, please visit www.anthesis.us
X-ALT-DESC;FMTTYPE=text/html:Anthesis Annual Association Dinner &quot\;All that Jazz&quot\; is quickly approaching\, and we are excited for all that is in store! Not only will we be at a new venue\, but we will also have live jazz music by Amanda Castro. For tickets or sponsorship information\, please visit <a href="http://www.anthesis.us">www.anthesis.us</a>
LOCATION:The DoubleTree by Hilton\, Pomona 3101 W. Temple Ave.\, Pomona\, CA 91768
UID:e.838.20673
SEQUENCE:3
DTSTAMP:20260420T225347Z
URL:https://business.claremontchamber.org/events/details/anthesis-annual-association-dinner-20673
END:VEVENT

END:VCALENDAR
