BEGIN:VCALENDAR
VERSION:2.0
PRODID:-//ChamberMaster//Event Calendar 2.0//EN
METHOD:PUBLISH
X-PUBLISHED-TTL:P3D
REFRESH-INTERVAL:P3D
CALSCALE:GREGORIAN
BEGIN:VEVENT
DTSTART:20161215T030000Z
DTEND:20161215T034500Z
X-MICROSOFT-CDO-ALLDAYEVENT:FALSE
SUMMARY:Autism in Relation to Glutathione
DESCRIPTION:This event is sponsored by The Body Center Physical Therapy.\n\n\n\nOur guest speaker Marci. Mother of 3 boys\, one with Autism and one with seizure disorder will be explaining why the production of glutathione in autism spectrum disorders is so important and  how it  works in the body.
X-ALT-DESC;FMTTYPE=text/html:<em>This event is sponsored by The Body Center Physical Therapy.</em><br />\n<br />\nOur guest speaker Marci. Mother of 3 boys\, one with Autism and one with seizure disorder will be explaining why the production of glutathione in autism spectrum disorders is so important and &nbsp\;how it &nbsp\;works in the body.&nbsp\;
LOCATION:The Body Center Physical Therapy 224 N Indian Hill Blvd Claremont Ca 91711
UID:e.838.14109
SEQUENCE:3
DTSTAMP:20260424T232720Z
URL:https://business.claremontchamber.org/events/details/autism-in-relation-to-glutathione-14109
END:VEVENT

END:VCALENDAR
