BEGIN:VCALENDAR
VERSION:2.0
PRODID:-//ChamberMaster//Event Calendar 2.0//EN
METHOD:PUBLISH
X-PUBLISHED-TTL:P3D
REFRESH-INTERVAL:P3D
CALSCALE:GREGORIAN
BEGIN:VEVENT
DTSTART:20170805T210000Z
DTEND:20170805T220000Z
X-MICROSOFT-CDO-ALLDAYEVENT:FALSE
SUMMARY:Birthday Pawty Celebration
DESCRIPTION:This is event is sponsored by Unleashed by Petco\, Claremont.\n\n \n\nIT'S A PAWWTY!\n\nBring in your dog in on their birthday month. Every first Saturday of the month we will be celebrating dogs birthdays with Cake\, Pictures and goodie bags!
X-ALT-DESC;FMTTYPE=text/html:<em>This is event is sponsored by Unleashed by Petco\, Claremont.</em><br />\n&#8203\;<br />\nIT&#39\;S A PAWWTY!<br />\nBring in your dog in on their birthday month. Every first Saturday of the month we will be celebrating dogs birthdays with Cake\, Pictures and goodie bags!
LOCATION:Unleashed by Petco in Claremont 905 Foothill Blvd Claremont\, CA 91711
UID:e.838.16294
SEQUENCE:3
DTSTAMP:20260424T040056Z
URL:https://business.claremontchamber.org/events/details/birthday-pawty-celebration-08-05-2017-16294
END:VEVENT

END:VCALENDAR
