BEGIN:VCALENDAR
VERSION:2.0
PRODID:-//ChamberMaster//Event Calendar 2.0//EN
METHOD:PUBLISH
X-PUBLISHED-TTL:P3D
REFRESH-INTERVAL:P3D
CALSCALE:GREGORIAN
BEGIN:VEVENT
DTSTART:20170603T210000Z
DTEND:20170603T220000Z
X-MICROSOFT-CDO-ALLDAYEVENT:FALSE
SUMMARY:Birthday Pawty Celebration
DESCRIPTION:This event is sponsored by Unleashed by Petco.\n\n\n\nIT'S A PAWWTY!\n\nBring your dog in on their birthday month. Every first Saturday of the month we will be celebrating dogs birthdays\, with Cake\, Pictures and goodie bags !\n\n\n\nCake Cutting starts at 2:30pm
X-ALT-DESC;FMTTYPE=text/html:<span style="font-size:12px\;"><em>This event is sponsored by Unleashed by&nbsp\;Petco.</em><br />\n<br />\n<big><span style="font-family:comic sans ms">IT&#39\;S A PAWWTY!<br />\nBring your dog in on their birthday month. Every first Saturday of the month we will be celebrating dogs birthdays\, with Cake\, Pictures and goodie bags !<br />\n<br />\nCake Cutting starts at 2:30pm</span></big></span>
LOCATION:Unleashed by Petco in Claremont 905 Foothill Blvd Claremont\, CA 91711
UID:e.838.16291
SEQUENCE:3
DTSTAMP:20260424T083648Z
URL:https://business.claremontchamber.org/events/details/birthday-pawty-celebration-16291
END:VEVENT

END:VCALENDAR
