BEGIN:VCALENDAR
VERSION:2.0
PRODID:-//ChamberMaster//Event Calendar 2.0//EN
METHOD:PUBLISH
X-PUBLISHED-TTL:P3D
REFRESH-INTERVAL:P3D
CALSCALE:GREGORIAN
BEGIN:VEVENT
DTSTART:20230809T150000Z
DTEND:20230809T160000Z
X-MICROSOFT-CDO-ALLDAYEVENT:FALSE
SUMMARY:Business Crime Forum
DESCRIPTION:An open dialogue between our business community and the Claremont Police Department to help reduce crime against local business. \n\n\n\nA focus on the Claremont Village and business community
X-ALT-DESC;FMTTYPE=text/html:An open dialogue between our business community and the Claremont Police Department to help reduce crime against local business.&nbsp\;<br />\n<br />\nA focus on the Claremont Village and business community
LOCATION:City Council Chambers 225 W. 2nd St.
UID:e.838.42887
SEQUENCE:3
DTSTAMP:20260423T082432Z
URL:https://business.claremontchamber.org/events/details/business-crime-forum-42887
END:VEVENT

END:VCALENDAR
