BEGIN:VCALENDAR
VERSION:2.0
PRODID:-//ChamberMaster//Event Calendar 2.0//EN
METHOD:PUBLISH
X-PUBLISHED-TTL:P3D
REFRESH-INTERVAL:P3D
CALSCALE:GREGORIAN
BEGIN:VEVENT
DTSTART;VALUE=DATE:20180814
DTEND;VALUE=DATE:20180817
TRANSP:TRANSPARENT
X-MICROSOFT-CDO-ALLDAYEVENT:TRUE
SUMMARY:Casa Colina Hospital's 23rd Annual Land Meets Sea Sports Camp
DESCRIPTION:The Casa Colina Foundation is pleased to host the 23nd annual Land Meets Sea Sports Camp in Long Beach\, August 14-16. Part of Casa Colina's renowned Outdoor Adventures program\, this inspiring event celebrates ability over disability and allows participants to build confidence and community through adaptive sports such as jet skiing\, rock-climbing\, sailing\, and tennis.
X-ALT-DESC;FMTTYPE=text/html:<span style="font-size:12px"><span style="font-family:arial\,helvetica\,sans-serif"><span style="background-color:#FFFFFF">The Casa Colina Foundation is pleased to host the 23nd annual Land Meets Sea Sports Camp in Long Beach\, August 14-16. Part of Casa Colina&rsquo\;s renowned Outdoor Adventures program\, this inspiring event celebrates ability over disability and allows participants to build confidence and community through adaptive sports such as jet skiing\, rock-climbing\, sailing\, and tennis.&nbsp\;</span></span></span>
LOCATION:Marine Studium and Surrounding Sites 5255 E. Paoli Way Long Beach\, CA 90803
UID:e.838.19783
SEQUENCE:3
DTSTAMP:20260422T004203Z
URL:https://business.claremontchamber.org/events/details/casa-colina-hospital-s-23rd-annual-land-meets-sea-sports-camp-19783
END:VEVENT

END:VCALENDAR
