BEGIN:VCALENDAR
VERSION:2.0
PRODID:-//ChamberMaster//Event Calendar 2.0//EN
METHOD:PUBLISH
X-PUBLISHED-TTL:P3D
REFRESH-INTERVAL:P3D
CALSCALE:GREGORIAN
BEGIN:VEVENT
DTSTART:20181014T170000Z
DTEND:20181014T230000Z
X-MICROSOFT-CDO-ALLDAYEVENT:FALSE
SUMMARY:Cause-4-Paws
DESCRIPTION:This event is intended to help find furever homes for dogs that need a second chance with a loving family. If nothing else\, we would like to help by donating to Dawg Squad Rescue. From 10am to 4pm we will be doing $25 haircuts on a 1st come\, 1st serve basis. The money raised will help to keep their organization going and provide medical services to animals in need. For those not able to make it\, but still want to donate we have set up a paypal account to donate to: paypal.me/cause4pawsclaremont ALL proceeds will go to Dawg Squad Rescue.
X-ALT-DESC;FMTTYPE=text/html:This event is intended to help find furever homes for dogs that need a second chance with a loving family. If nothing else\, we would like to help by donating to Dawg Squad Rescue. From 10am to 4pm we will be doing $25 haircuts on a 1st come\, 1st serve basis. The money raised will help to keep their organization going and provide medical services to animals in need. For those not able to make it\, but still want to donate we have set up a paypal account to donate to: paypal.me/cause4pawsclaremont ALL proceeds will go to Dawg Squad Rescue.
LOCATION:Salon Luxe 937 W. Foothill Blvd. Ste. A
UID:e.838.20286
SEQUENCE:3
DTSTAMP:20260421T133152Z
URL:https://business.claremontchamber.org/events/details/cause-4-paws-20286
END:VEVENT

END:VCALENDAR
