BEGIN:VCALENDAR
VERSION:2.0
PRODID:-//ChamberMaster//Event Calendar 2.0//EN
METHOD:PUBLISH
X-PUBLISHED-TTL:P3D
REFRESH-INTERVAL:P3D
CALSCALE:GREGORIAN
BEGIN:VEVENT
DTSTART:20180315T003000Z
DTEND:20180315T023000Z
X-MICROSOFT-CDO-ALLDAYEVENT:FALSE
SUMMARY:CCYP Mentors Series Mixer
DESCRIPTION:Join us to network with a dynamic group of young professionals! \n\n\n\nJacob Swodeck co-founder of The Associates Realty Group will be our guest speaker.\n\n\n\nLocal craft beer\, wine\, charcuterie\, cheese board\, and fresh hand-rolled cigars will be provided.\n\n\n\nJacob's bio is below:\n\n	Licensed Realtor since 1999\n	Sold over 1150 homes\n	Co-founder of the fastest growing brokerage in SoCal (The Associates Realty Group)\n	Coach and keynote presenter for Tom Ferry (2007-2009)\n	Created short sale designation that grew to 11\,000 members nationally\n	Speaker since 2010 at C.A.R. Expo (large annual event\, 6 years in a row)\n	M.A.P.S. Coach with Keller Williams and Master Faculty trainer from 2010-2015\n	Created and fulfilled Relevant Agent mastermind/group coaching program 2013-2015\n	Head trainer/coach for The Associates Realty Group brokerage\n	Continues to speak for fees nationally (5-8 times a year)
X-ALT-DESC;FMTTYPE=text/html:Join us to network with a dynamic group of young professionals!&nbsp\;<br />\n<br />\nJacob Swodeck&nbsp\;co-founder of The Associates Realty Group will be our guest speaker.<br />\n<br />\nLocal craft beer\, wine\,&nbsp\;charcuterie\,&nbsp\;cheese board\, and fresh hand-rolled cigars will be provided.<br />\n<br />\nJacob&#39\;s bio is below:\n<ul>\n	<li>Licensed Realtor since 1999</li>\n	<li>Sold over 1150 homes</li>\n	<li>Co-founder of the fastest growing brokerage in SoCal (The Associates Realty Group)</li>\n	<li>Coach and keynote presenter for Tom Ferry (2007-2009)</li>\n	<li>Created short sale designation that grew to 11\,000 members nationally</li>\n	<li>Speaker since 2010 at C.A.R. Expo (large annual event\, 6 years in a row)</li>\n	<li>M.A.P.S. Coach with Keller Williams and Master Faculty trainer from 2010-2015</li>\n	<li>Created and fulfilled Relevant Agent mastermind/group coaching program 2013-2015</li>\n	<li>Head trainer/coach for The Associates Realty Group brokerage</li>\n	<li>Continues to speak for fees nationally (5-8 times a year)</li>\n</ul>\n
LOCATION:The event will be held at Claremont Escrow's side patio at the Old School House off of Indian Hill and Foothill next to the new Elvira's
UID:e.838.17612
SEQUENCE:3
DTSTAMP:20260422T231216Z
URL:https://business.claremontchamber.org/events/details/ccyp-mentors-series-mixer-17612
END:VEVENT

END:VCALENDAR
