BEGIN:VCALENDAR
VERSION:2.0
PRODID:-//ChamberMaster//Event Calendar 2.0//EN
METHOD:PUBLISH
X-PUBLISHED-TTL:P3D
REFRESH-INTERVAL:P3D
CALSCALE:GREGORIAN
BEGIN:VEVENT
DTSTART:20151116T000000Z
DTEND:20151116T030000Z
X-MICROSOFT-CDO-ALLDAYEVENT:FALSE
SUMMARY:Celebrate 125 Years of Public Education in Claremont
DESCRIPTION:Please join Claremont Heritage and Walters Restaurant to Celebrate 125 Years of Public Education in Claremont and raise money to help augment our Education Programs including the Third Grade Local History Program that is offered free to all local elementary schools!\n\n\n\nEnjoy a wonderful selection of signature Walters mouth-watering Hors d'ouevres\, Live Jazz and a Silent Art Auction featuring many local luminaries!\n\n\n\nResevations are $35 in advance\, $40 at the door - This is a ticket-less event and your name will be on a list at the door.\n\n\n\nThis is an exciting opportunity to enjoy good company\, live music and the wonderful and creative offerings by Walters\, while giving back to the community at the same time!
X-ALT-DESC;FMTTYPE=text/html:Please join Claremont Heritage and Walters Restaurant to Celebrate 125 Years of Public Education in Claremont and raise money to help augment our Education Programs including the Third Grade Local History Program that is offered free to all local elementary schools!<br />\n<br />\nEnjoy a wonderful selection of signature Walters mouth-watering Hors d&#39\;ouevres\, Live Jazz and a Silent Art Auction featuring many local luminaries!<br />\n<br />\nResevations are $35 in advance\, $40 at the door - This is a ticket-less event and your name will be on a list at the door.<br />\n<br />\nThis is an exciting opportunity to enjoy good company\, live music and the wonderful and creative offerings by Walters\, while giving back to the community at the same time!
LOCATION:Walters Restaurant-310 N Yale Ave\, Claremont\, CA 91711
UID:e.838.11302
SEQUENCE:3
DTSTAMP:20260426T040744Z
URL:https://business.claremontchamber.org/events/details/celebrate-125-years-of-public-education-in-claremont-11-15-2015-11302
END:VEVENT

END:VCALENDAR
