BEGIN:VCALENDAR
VERSION:2.0
PRODID:-//ChamberMaster//Event Calendar 2.0//EN
METHOD:PUBLISH
X-PUBLISHED-TTL:P3D
REFRESH-INTERVAL:P3D
CALSCALE:GREGORIAN
BEGIN:VEVENT
DTSTART:20180122T200000Z
DTEND:20180122T210000Z
X-MICROSOFT-CDO-ALLDAYEVENT:FALSE
SUMMARY:Chamber Ambassadors Committee
DESCRIPTION:Chamber Ambassadors Committee Meeting\n\nChair - Nona Tirre\, Nona Tirre State Farm Agency
X-ALT-DESC;FMTTYPE=text/html:Chamber Ambassadors Committee Meeting<br />\nChair - Nona Tirre\, Nona Tirre State Farm Agency<br />\n<br />\n&nbsp\;
LOCATION:Claremont Chamber of Commerce 205 Yale Avenue Claremont
UID:e.838.11574
SEQUENCE:3
DTSTAMP:20260423T010713Z
URL:https://business.claremontchamber.org/events/details/chamber-ambassador-membership-committee-01-15-2018-11574
END:VEVENT

END:VCALENDAR
