BEGIN:VCALENDAR
VERSION:2.0
PRODID:-//ChamberMaster//Event Calendar 2.0//EN
METHOD:PUBLISH
X-PUBLISHED-TTL:P3D
REFRESH-INTERVAL:P3D
CALSCALE:GREGORIAN
BEGIN:VEVENT
DTSTART:20170320T190000Z
DTEND:20170320T200000Z
X-MICROSOFT-CDO-ALLDAYEVENT:FALSE
SUMMARY:Chamber Ambassadors Committee
DESCRIPTION:Chamber Ambassadors Committee Meeting\n\nChair- Cindy Rainey\, Rotary Club of Claremont-Sunrise
X-ALT-DESC;FMTTYPE=text/html:Chamber Ambassadors Committee Meeting<br />\nChair- Cindy Rainey\, Rotary Club of Claremont-Sunrise<br />\n<br />\n&nbsp\;
LOCATION:Claremont Chamber of Commerce 205 Yale Avenue Claremont
UID:e.838.11564
SEQUENCE:3
DTSTAMP:20260424T155320Z
URL:https://business.claremontchamber.org/events/details/chamber-ambassadors-committee-11564
END:VEVENT

END:VCALENDAR
