BEGIN:VCALENDAR
VERSION:2.0
PRODID:-//ChamberMaster//Event Calendar 2.0//EN
METHOD:PUBLISH
X-PUBLISHED-TTL:P3D
REFRESH-INTERVAL:P3D
CALSCALE:GREGORIAN
BEGIN:VEVENT
DTSTART:20160819T000000Z
DTEND:20160819T050000Z
X-MICROSOFT-CDO-ALLDAYEVENT:FALSE
SUMMARY:Chamber Business After 5
DESCRIPTION:Business After 5\n\n\n\nMeet potential new and strengthen ties with existing contacts and customers Thursday\, August 18th\, from 5:00 pm to 10:00 pm. This is FREE event. No Host Bar available.
X-ALT-DESC;FMTTYPE=text/html:<strong><em>Business After 5</em></strong><br />\n<br />\n<span style="color:#403F42\;"><span style="font-family:arial\,sans-serif\;"><span style="font-size:10.0pt\;">Meet potential new and strengthen ties with existing contacts and customers&nbsp\;Thursday\, August 18th\, from 5:00 pm to 10:00 pm. This is FREE event. <strong>No Host Bar available.</strong>&nbsp\;</span></span></span><br />\n&nbsp\;
LOCATION:Nuno's Bistro 2440 W Arrow Route #4a Upland\, CA 91786
UID:e.838.12218
SEQUENCE:3
DTSTAMP:20260425T033136Z
URL:https://business.claremontchamber.org/events/details/chamber-business-after-5-08-18-2016-12218
END:VEVENT

END:VCALENDAR
