BEGIN:VCALENDAR
VERSION:2.0
PRODID:-//ChamberMaster//Event Calendar 2.0//EN
METHOD:PUBLISH
X-PUBLISHED-TTL:P3D
REFRESH-INTERVAL:P3D
CALSCALE:GREGORIAN
BEGIN:VEVENT
DTSTART:20180710T143000Z
DTEND:20180710T160000Z
X-MICROSOFT-CDO-ALLDAYEVENT:FALSE
SUMMARY:Chamber Business Over Breakfast
DESCRIPTION:Business Over Breakfast\nAmbassadors Update
X-ALT-DESC;FMTTYPE=text/html:&#8203\;Business Over Breakfast\n<div>Ambassadors Update</div>\n
LOCATION:Doubletree Hotel 555 W Foothill Blvd Claremont
UID:e.838.17278
SEQUENCE:3
DTSTAMP:20260422T001725Z
URL:https://business.claremontchamber.org/events/details/chamber-business-over-breakfast-07-10-2018-17278
END:VEVENT

END:VCALENDAR
