BEGIN:VCALENDAR
VERSION:2.0
PRODID:-//ChamberMaster//Event Calendar 2.0//EN
METHOD:PUBLISH
X-PUBLISHED-TTL:P3D
REFRESH-INTERVAL:P3D
CALSCALE:GREGORIAN
BEGIN:VEVENT
DTSTART:20160809T143000Z
DTEND:20160809T160000Z
X-MICROSOFT-CDO-ALLDAYEVENT:FALSE
SUMMARY:Chamber Business Over Breakfast
DESCRIPTION:Business Over Breakfast\n\nSponsored by: Fairplex\n\n \n\nCome Tuesday\, August 9th\, from 7:30 to 9:00 am\, to network with your fellow Claremont Chamber Businesses. Potential members welcome!
X-ALT-DESC;FMTTYPE=text/html:Business Over Breakfast<br />\nSponsored by: <em>Fairplex<br />\n&#8203\;</em><br />\n<span style="color: rgb(64\, 63\, 66)\; font-family: Arial\; font-size: 13.3333px\; line-height: normal\;">Come&nbsp\;Tuesday\, August 9th\, from 7:30 to 9:00 am\, to network with your fellow Claremont Chamber Businesses</span><span style="color: rgb(64\, 63\, 66)\; font-family: Arial\; font-size: 13.3333px\; line-height: normal\;">. Potential members welcome!</span>
LOCATION:DoubleTree by Hilton Claremont 555 W Foothill Blvd Claremont CA 91711
UID:e.838.12345
SEQUENCE:3
DTSTAMP:20260425T033013Z
URL:https://business.claremontchamber.org/events/details/chamber-business-over-breakfast-08-09-2016-12345
END:VEVENT

END:VCALENDAR
