BEGIN:VCALENDAR
VERSION:2.0
PRODID:-//ChamberMaster//Event Calendar 2.0//EN
METHOD:PUBLISH
X-PUBLISHED-TTL:P3D
REFRESH-INTERVAL:P3D
CALSCALE:GREGORIAN
BEGIN:VEVENT
DTSTART:20160913T143000Z
DTEND:20160913T160000Z
X-MICROSOFT-CDO-ALLDAYEVENT:FALSE
SUMMARY:Chamber Business Over Breakfast
DESCRIPTION:Business Over Breakfast\n\n\n\nBusiness Over Breakfast - Speed Networking\n\nCome Tuesday\, September 13th\, from 7:30 to 9:00 am\, to network with your fellow Claremont Chamber Businesses. Potential members welcome!\n\n\n\nSponsored by: JR Consulting
X-ALT-DESC;FMTTYPE=text/html:<strong>Business Over Breakfast</strong><br />\n<br />\n<span style="color: rgb(64\, 63\, 66)\; font-family: Arial\; font-size: 13.3333px\; line-height: normal\;">Business Over Breakfast - <em>Speed Networking</em><br />\nCome&nbsp\;Tuesday\, September 13th\, from 7:30 to 9:00 am\, to network with your fellow Claremont Chamber Businesses</span><span style="color: rgb(64\, 63\, 66)\; font-family: Arial\; font-size: 13.3333px\; line-height: normal\;">. Potential members welcome!</span><br />\n<br />\nSponsored by: <strong><em>JR Consulting</em></strong>
LOCATION:DoubleTree by Hilton Claremont 555 W Foothill Blvd Claremont CA 91711
UID:e.838.12346
SEQUENCE:3
DTSTAMP:20260425T021122Z
URL:https://business.claremontchamber.org/events/details/chamber-business-over-breakfast-09-13-2016-12346
END:VEVENT

END:VCALENDAR
