BEGIN:VCALENDAR
VERSION:2.0
PRODID:-//ChamberMaster//Event Calendar 2.0//EN
METHOD:PUBLISH
X-PUBLISHED-TTL:P3D
REFRESH-INTERVAL:P3D
CALSCALE:GREGORIAN
BEGIN:VEVENT
DTSTART:20161011T143000Z
DTEND:20161011T160000Z
X-MICROSOFT-CDO-ALLDAYEVENT:FALSE
SUMMARY:Chamber Business Over Breakfast
DESCRIPTION:Business Over Breakfast\n\nSponsored by: Rotary Club of Claremont-Sunrise\n\n\n\nCome join us the second Tuesday of each month from 7:30 to 9:00 am to network with your fellow Claremont Chamber Businesses. Potential members welcome!
X-ALT-DESC;FMTTYPE=text/html:<p><span style="font-size:14px\;"><span style="font-family:arial\;"><strong>Business Over Breakfast</strong><br />\n<em>Sponsored by: </em></span></span><em>Rotary Club of Claremont-Sunrise</em><br />\n<br />\n<span style="font-size:14px\;"><span style="font-family:arial\;"><span font-size:="" new="" style="color: rgb(0\, 0\, 0)\; font-family: Georgia\, " times="">Come join us the second&nbsp\;Tuesday of each month&nbsp\;from 7:30 to 9:00 am&nbsp\;to network with your fellow Claremont Chamber Businesses. Potential members welcome!</span></span></span></p>\n
LOCATION:DoubleTree by Hilton Claremont 555 W Foothill Blvd Claremont CA 91711
UID:e.838.12347
SEQUENCE:3
DTSTAMP:20260425T004838Z
URL:https://business.claremontchamber.org/events/details/chamber-business-over-breakfast-10-11-2016-12347
END:VEVENT

END:VCALENDAR
