BEGIN:VCALENDAR
VERSION:2.0
PRODID:-//ChamberMaster//Event Calendar 2.0//EN
METHOD:PUBLISH
X-PUBLISHED-TTL:P3D
REFRESH-INTERVAL:P3D
CALSCALE:GREGORIAN
BEGIN:VEVENT
DTSTART:20170214T153000Z
DTEND:20170214T170000Z
X-MICROSOFT-CDO-ALLDAYEVENT:FALSE
SUMMARY:Chamber Business Over Breakfast
DESCRIPTION:In anticipation of the upcoming General Municipal Election\, the Claremont Chamber of Commerce is facilitating a candidate forum for Claremont City Council candidates. \n\n \n\nSponsored by: SoCalGas
X-ALT-DESC;FMTTYPE=text/html:<div><span style="font-size:14px\;"><span style="font-family:arial\;">In anticipation of the upcoming General Municipal Election\, the Claremont Chamber of Commerce is facilitating a candidate forum for Claremont City Council candidates.&nbsp\;</span></span><br />\n&nbsp\;</div>\n\n<div font-size:="" new="" times=""><span style="font-size:14px\;"><em><span style="font-family:arial\;">Sponsored by: SoCalGas</span></em></span></div>\n
LOCATION:DoubleTree by Hilton Claremont 555 W Foothill Blvd Claremont CA 91711
UID:e.838.14719
SEQUENCE:3
DTSTAMP:20260424T193918Z
URL:https://business.claremontchamber.org/events/details/chamber-business-over-breakfast-14719
END:VEVENT

END:VCALENDAR
