BEGIN:VCALENDAR
VERSION:2.0
PRODID:-//ChamberMaster//Event Calendar 2.0//EN
METHOD:PUBLISH
X-PUBLISHED-TTL:P3D
REFRESH-INTERVAL:P3D
CALSCALE:GREGORIAN
BEGIN:VEVENT
DTSTART:20170314T143000Z
DTEND:20170314T160000Z
X-MICROSOFT-CDO-ALLDAYEVENT:FALSE
SUMMARY:Chamber Business Over Breakfast
DESCRIPTION:Business Over Breakfast\n\nSponsored by Stella Divina\n\n\n\nCome network with your fellow Claremont Chamber Businesses. Prospective members are welcomed!
X-ALT-DESC;FMTTYPE=text/html:Business Over Breakfast<br />\n<strong style="color: rgb(64\, 63\, 66)\; font-family: Arial\; font-size: 13.3333px\;"><em>Sponsored by Stella&nbsp\;Divina</em></strong><br style="color: rgb(64\, 63\, 66)\; font-family: Arial\; font-size: 13.3333px\;" />\n<br />\n<span style="color: rgb(64\, 63\, 66)\; font-family: Arial\; font-size: 13.3333px\; line-height: normal\;">Come network with your fellow Claremont Chamber Businesses</span><span style="color: rgb(64\, 63\, 66)\; font-family: Arial\; font-size: 13.3333px\; line-height: normal\;">. Prospective&nbsp\;members are welcomed!</span>
LOCATION:DoubleTree by Hilton Claremont 555 W Foothill Blvd Claremont CA 91711
UID:e.838.14720
SEQUENCE:3
DTSTAMP:20260424T150158Z
URL:https://business.claremontchamber.org/events/details/chamber-business-over-breakfast-14720
END:VEVENT

END:VCALENDAR
