BEGIN:VCALENDAR
VERSION:2.0
PRODID:-//ChamberMaster//Event Calendar 2.0//EN
METHOD:PUBLISH
X-PUBLISHED-TTL:P3D
REFRESH-INTERVAL:P3D
CALSCALE:GREGORIAN
BEGIN:VEVENT
DTSTART:20161209T013000Z
DTEND:20161209T060000Z
X-MICROSOFT-CDO-ALLDAYEVENT:FALSE
SUMMARY:Chamber CYP Mixer
DESCRIPTION:Calling all Claremont Chamber Young Professionals and potential members  age 40 and under! Join Co-Chairs Joey Medeiros  and Ben Fox  Thursday\, December 8th 2016@ 5:30 pm at Claremont Craft Ales for a fun and invigorating networking setting!\n\n\n\n \n\n\n\n#entrepreneur #claremontchamber #claremontcyp\n\n\n\n \n\n\n\n___________________________________________________\n\n\n\n \n\n\n\nThe Claremont Chamber Young Professionals (CYP) targets the young and talented current Chamber Members. CYP exists to strengthen the vitality of Claremont and surrounding areas by providing a network of professional development and social opportunities. If your Chamber business has young entrepreneurs under 40\, inquire with the Claremont Chamber as to how they can be a part of this energetic group.\n\n\n\n \n\n\n\nNetworking events will be held quarterly as well as an annual fundraiser.\n\n\n\n \n\n\n\n___________________________________________________\n\n\n\n \n\n\n\nE-mail contact@claremontchamber.org for more information.\n\n\n\nNetworking events will be held quarterly as well as annual bowling fundraiser.\n\n\n\n \n\n\n\nE-mail contact@claremontchamber.org for more information.
X-ALT-DESC;FMTTYPE=text/html:<div data-block="true" data-editor="fr6d6" data-offset-key="819hp-0-0">\n<div data-offset-key="819hp-0-0">Calling all Claremont Chamber Young Professionals and potential members&#8203\; age 40 and under! Join Co-Chairs Joey Medeiros&#8203\; and Ben Fox&#8203\; Thursday\, December 8th 2016@ 5:30 pm at Claremont Craft Ales for a fun and invigorating networking setting!</div>\n</div>\n\n<div data-block="true" data-editor="fr6d6" data-offset-key="de27p-0-0">\n<div data-offset-key="de27p-0-0">&nbsp\;</div>\n</div>\n\n<div data-block="true" data-editor="fr6d6" data-offset-key="5cksu-0-0">\n<div data-offset-key="5cksu-0-0">#entrepreneur #claremontchamber #claremontcyp</div>\n</div>\n\n<div data-block="true" data-editor="fr6d6" data-offset-key="fp5ei-0-0">\n<div data-offset-key="fp5ei-0-0">&nbsp\;</div>\n</div>\n\n<div data-block="true" data-editor="fr6d6" data-offset-key="ep15i-0-0">\n<div data-offset-key="ep15i-0-0">___________________________________________________</div>\n</div>\n\n<div data-block="true" data-editor="fr6d6" data-offset-key="etq05-0-0">\n<div data-offset-key="etq05-0-0">&nbsp\;</div>\n</div>\n\n<div data-block="true" data-editor="fr6d6" data-offset-key="1pvpm-0-0">\n<div data-offset-key="1pvpm-0-0">The Claremont Chamber Young Professionals (CYP) targets the young and talented current Chamber Members. CYP exists to strengthen the vitality of Claremont and surrounding areas by providing a network of professional development and social opportunities. If your Chamber business has young entrepreneurs under 40\, inquire with the Claremont Chamber as to how they can be a part of this energetic group.</div>\n</div>\n\n<div data-block="true" data-editor="fr6d6" data-offset-key="bs1v0-0-0">\n<div data-offset-key="bs1v0-0-0">&nbsp\;</div>\n</div>\n\n<div data-block="true" data-editor="fr6d6" data-offset-key="9vc2u-0-0">\n<div data-offset-key="9vc2u-0-0">Networking events will be held quarterly as well as an annual fundraiser.</div>\n</div>\n\n<div data-block="true" data-editor="fr6d6" data-offset-key="56k0j-0-0">\n<div data-offset-key="56k0j-0-0">&nbsp\;</div>\n</div>\n\n<div data-block="true" data-editor="fr6d6" data-offset-key="6dnjp-0-0">\n<div data-offset-key="6dnjp-0-0">___________________________________________________</div>\n</div>\n\n<div data-block="true" data-editor="fr6d6" data-offset-key="9v6sa-0-0">\n<div data-offset-key="9v6sa-0-0">&nbsp\;</div>\n</div>\n\n<div data-block="true" data-editor="fr6d6" data-offset-key="7cjd3-0-0">\n<div data-offset-key="7cjd3-0-0">E-mail contact@claremontchamber.org for more information.</div>\n</div>\n\n<div data-block="true" data-editor="fr6d6" data-offset-key="c0klm-0-0">\n<div data-offset-key="c0klm-0-0">Networking events will be held quarterly as well as annual bowling fundraiser.</div>\n</div>\n\n<div data-block="true" data-editor="fr6d6" data-offset-key="aukal-0-0">\n<div data-offset-key="aukal-0-0">&nbsp\;</div>\n</div>\n\n<div data-block="true" data-editor="fr6d6" data-offset-key="cfcbk-0-0">\n<div data-offset-key="cfcbk-0-0">E-mail contact@claremontchamber.org for more information.</div>\n</div>\n
LOCATION:Claremont Craft Ales 1420 N.Claremont Blvd Ste. 204-C Claremont\, CA 91711 (909) 625-5350
UID:e.838.12214
SEQUENCE:3
DTSTAMP:20260424T200157Z
URL:https://business.claremontchamber.org/events/details/chamber-cyp-mixer-12-08-2016-12214
END:VEVENT

END:VCALENDAR
