BEGIN:VCALENDAR
VERSION:2.0
PRODID:-//ChamberMaster//Event Calendar 2.0//EN
METHOD:PUBLISH
X-PUBLISHED-TTL:P3D
REFRESH-INTERVAL:P3D
CALSCALE:GREGORIAN
BEGIN:VEVENT
DTSTART:20151215T153000Z
DTEND:20151215T163000Z
X-MICROSOFT-CDO-ALLDAYEVENT:FALSE
SUMMARY:Chamber Government Relations Committee (GRC)/Economic Development
DESCRIPTION:Government Relations aims to identify and keep effective action on legislation\, both enacted and proposed\, which impacts members. Keep membership informed of current and pending legislation and effectively communicate Chamber positions on legislative issues.\n\nCreate a public policy platform which would enable the Governmental Relations Committee to take positions on business issues in a more timely manner.\n\nBe proactive\, not reactive\, in regards to local\, state and federal legislation that has an impact on business in Claremont.\n\nDevelop a stronger relationship with our local legislators so that we can give our members a voice in these issues.\n\n\n	Current Issues & Legislation \n	Register to Vote\n	Our Legislators\n\n\nThe  Economic Development committee's mission is to assist the City of Claremont in business retention\, education and recruitment.\n\n\n\nChair: \n\nAndrew Behnke\, DoubleTree by Hilton Hotel
X-ALT-DESC;FMTTYPE=text/html:<p>Government Relations aims to identify and keep effective action on legislation\, both enacted and proposed\, which impacts members. Keep membership informed of current and pending legislation and effectively communicate Chamber positions on legislative issues.</p>\n\n<p>Create a public policy platform which would enable the&nbsp\;Governmental Relations&nbsp\;Committee to take positions on business issues in a more timely manner.</p>\n\n<p>Be proactive\, not reactive\, in regards to local\, state and federal legislation that has an impact on business in Claremont.</p>\n\n<p>Develop a stronger relationship with our local legislators so that we can give our members a voice in these issues.</p>\n\n<ul>\n	<li><a href="http://www.calchamber.com/GovernmentRelations/Pages/Default.aspx" target="_blank">Current Issues &amp\; Legislation</a><a href="http://www.calchamber.com/GovernmentRelations/Pages/Default.aspx" target="_blank"> </a></li>\n	<li><a href="http://www.lavote.net/VOTER/Voter_Registration.cfm" target="_blank">Register to Vote</a></li>\n	<li><a href="http://www.claremontchamber.org/Our-Legislators.88.0.html">Our Legislators</a></li>\n</ul>\n\n<p>The&nbsp\; Economic Development committee&rsquo\;s mission is to assist the City of Claremont in business retention\, education and recruitment.<br />\n<br />\n<span style="font-weight: bold">Chair: </span><br />\nAndrew Behnke\, DoubleTree by Hilton Hotel</p>\n
LOCATION:Citrus Room- City Hall 207 Harvard Ave. Claremont
UID:e.838.3361
SEQUENCE:3
DTSTAMP:20260426T013856Z
URL:https://business.claremontchamber.org/events/details/chamber-government-relations-committee-grc-economic-development-12-15-2015-3361
END:VEVENT

END:VCALENDAR
