BEGIN:VCALENDAR
VERSION:2.0
PRODID:-//ChamberMaster//Event Calendar 2.0//EN
METHOD:PUBLISH
X-PUBLISHED-TTL:P3D
REFRESH-INTERVAL:P3D
CALSCALE:GREGORIAN
BEGIN:VEVENT
DTSTART:20170113T013000Z
DTEND:20170113T020000Z
X-MICROSOFT-CDO-ALLDAYEVENT:FALSE
SUMMARY:Chamber Grand Opening & Ribbon Cutting - Buttercup Catering
DESCRIPTION:Join us for a special Grand Opening & Ribbon Cutting for our Chamber Member\, Buttercup Catering!\n\n\n\n \n\n\n\nButtercup Catering will provide you with everything you need for your wedding reception\, sit-down dinner\, a cocktail reception with hors d'oeuvres to luncheons\, tea parties or any other catering event!
X-ALT-DESC;FMTTYPE=text/html:<div data-block="true" data-editor="5o7bi" data-offset-key="15rdb-0-0" style="color: rgb(29\, 33\, 41)\; font-family: Helvetica\, Arial\, sans-serif\; font-size: 12px\; white-space: pre-wrap\;">\n<div class="_1mf _1mj" data-offset-key="15rdb-0-0" style="position: relative\; direction: ltr\;"><span style="font-size:14px\;"><span style="font-family:arial\;"><span data-offset-key="15rdb-0-0">Join us for a special Grand Opening &amp\; Ribbon Cutting for our Chamber Member\, Buttercup Catering!</span></span></span></div>\n</div>\n\n<div data-block="true" data-editor="5o7bi" data-offset-key="cl88m-0-0" style="color: rgb(29\, 33\, 41)\; font-family: Helvetica\, Arial\, sans-serif\; font-size: 12px\; white-space: pre-wrap\;">\n<div class="_1mf _1mj" data-offset-key="cl88m-0-0" style="position: relative\; direction: ltr\;">&nbsp\;</div>\n</div>\n\n<div data-block="true" data-editor="5o7bi" data-offset-key="d0oa0-0-0" style="color: rgb(29\, 33\, 41)\; font-family: Helvetica\, Arial\, sans-serif\; font-size: 12px\; white-space: pre-wrap\;">\n<div class="_1mf _1mj" data-offset-key="d0oa0-0-0" style="position: relative\; direction: ltr\;"><span style="font-size:14px\;"><span style="font-family:arial\;"><span data-offset-key="d0oa0-0-0">Buttercup Catering will provide you with everything you need for your wedding reception\, sit-down dinner\, a cocktail reception with hors d&#39\;oeuvres to luncheons\, tea parties or any other catering event!</span></span></span></div>\n</div>\n
LOCATION:Buttercup Catering 337 E Arrow Hwy Claremont\, CA 91711
UID:e.838.14111
SEQUENCE:3
DTSTAMP:20260424T200800Z
URL:https://business.claremontchamber.org/events/details/chamber-grand-opening-ribbon-cutting-buttercup-catering-14111
END:VEVENT

END:VCALENDAR
