BEGIN:VCALENDAR
VERSION:2.0
PRODID:-//ChamberMaster//Event Calendar 2.0//EN
METHOD:PUBLISH
X-PUBLISHED-TTL:P3D
REFRESH-INTERVAL:P3D
CALSCALE:GREGORIAN
BEGIN:VEVENT
DTSTART:20151119T193000Z
DTEND:20151119T210000Z
X-MICROSOFT-CDO-ALLDAYEVENT:FALSE
SUMMARY:Chamber Ladies Luncheon
DESCRIPTION:Claremont Chamber of Commerce  Ladies Networking Luncheon\n\nVenue- Claremont Craft Ales \n\nCo-Sponsor- J.N. Coulas & Associates
X-ALT-DESC;FMTTYPE=text/html:Claremont Chamber of Commerce&nbsp\; Ladies Networking Luncheon<br />\nVenue-<em><strong> Claremont Craft Ales </strong></em><br />\nCo-Sponsor-<strong><em> J.N. Coulas &amp\; Associates</em></strong><br />\n&nbsp\;
LOCATION:1420 N Claremont Blvd Ste 204-C Claremont
UID:e.838.11152
SEQUENCE:3
DTSTAMP:20260426T035402Z
URL:https://business.claremontchamber.org/events/details/chamber-ladies-luncheon-11-19-2015-11152
END:VEVENT

END:VCALENDAR
