BEGIN:VCALENDAR
VERSION:2.0
PRODID:-//ChamberMaster//Event Calendar 2.0//EN
METHOD:PUBLISH
X-PUBLISHED-TTL:P3D
REFRESH-INTERVAL:P3D
CALSCALE:GREGORIAN
BEGIN:VEVENT
DTSTART:20170209T200000Z
DTEND:20170209T210000Z
X-MICROSOFT-CDO-ALLDAYEVENT:FALSE
SUMMARY:Chamber Marketing/PR Committee
DESCRIPTION:Marketing/PR aims to reach out to and partner with Claremont businesses and the City of Claremont to increase business visibility and activity. Identify grouping for community business to support and promote the activities of one another. Identify activities designed to draw customers to business centers.\n\nChair:\n\nBruno Windegger\, Saca's Mediterranean Cuisine
X-ALT-DESC;FMTTYPE=text/html:<p><strong>Marketing/PR</strong> aims to reach out to and partner with Claremont businesses and the City of Claremont to increase business visibility and activity. Identify grouping for community business to support and promote the activities of one another. Identify activities designed to draw customers to business centers.</p>\n\n<p><span style="font-weight: bold\;">Chair:</span><br />\nBruno Windegger\, Saca&#39\;s&nbsp\;Mediterranean Cuisine</p>\n
LOCATION:Claremont Chamber of Commerce 205 Yale Ave.\, Claremont\, CA 91711
UID:e.838.2987
SEQUENCE:3
DTSTAMP:20260424T171532Z
URL:https://business.claremontchamber.org/events/details/chamber-marketing-pr-committee-02-09-2017-2987
END:VEVENT

END:VCALENDAR
