BEGIN:VCALENDAR
VERSION:2.0
PRODID:-//ChamberMaster//Event Calendar 2.0//EN
METHOD:PUBLISH
X-PUBLISHED-TTL:P3D
REFRESH-INTERVAL:P3D
CALSCALE:GREGORIAN
BEGIN:VEVENT
DTSTART:20160223T193000Z
DTEND:20160223T210000Z
X-MICROSOFT-CDO-ALLDAYEVENT:FALSE
SUMMARY:Chamber Member Networking Luncheon
DESCRIPTION:All Claremont Chamber Members\, join us for a great opportunity to enjoy lunch and develop business relationships with other Members.You will have the opportunity to provide a brief introduction of your business.
X-ALT-DESC;FMTTYPE=text/html:All Claremont Chamber Members\, join us for a great opportunity to enjoy lunch and develop business relationships with other Members.You will have the opportunity to provide a brief introduction of your business.
LOCATION:Packing House Wines 540 W First St Claremont
UID:e.838.11821
SEQUENCE:3
DTSTAMP:20260425T181551Z
URL:https://business.claremontchamber.org/events/details/chamber-member-networking-luncheon-02-23-2016-11821
END:VEVENT

END:VCALENDAR
