BEGIN:VCALENDAR
VERSION:2.0
PRODID:-//ChamberMaster//Event Calendar 2.0//EN
METHOD:PUBLISH
X-PUBLISHED-TTL:P3D
REFRESH-INTERVAL:P3D
CALSCALE:GREGORIAN
BEGIN:VEVENT
DTSTART:20170520T010000Z
DTEND:20170520T030000Z
X-MICROSOFT-CDO-ALLDAYEVENT:FALSE
SUMMARY:Chamber Multi-Mixer
DESCRIPTION:Join Upland\, Ontario\, Claremont\, and Fontana Chamber of Commerce for a Bowling Chamber Multi-Mixer!\n\n\n\nFor more information\, contact Upland Chamber of Commerce.
X-ALT-DESC;FMTTYPE=text/html:<span style="font-size:14px\;"><span style="font-family:arial\;">Join Upland\, Ontario\, Claremont\, and Fontana Chamber of Commerce for a Bowling Chamber Multi-Mixer!<br />\n<br />\nFor more information\, contact Upland Chamber of Commerce.</span></span>
LOCATION:Brunswick Upland Bowl 451 W. Foothill Blvd Upland\, Ca 91786
UID:e.838.16192
SEQUENCE:3
DTSTAMP:20260425T122657Z
URL:https://business.claremontchamber.org/events/details/chamber-multi-mixer-05-19-2017-16192
END:VEVENT

END:VCALENDAR
