BEGIN:VCALENDAR
VERSION:2.0
PRODID:-//ChamberMaster//Event Calendar 2.0//EN
METHOD:PUBLISH
X-PUBLISHED-TTL:P3D
REFRESH-INTERVAL:P3D
CALSCALE:GREGORIAN
BEGIN:VEVENT
DTSTART:20170519T003000Z
DTEND:20170519T010000Z
X-MICROSOFT-CDO-ALLDAYEVENT:FALSE
SUMMARY:Chamber Ribbon Cutting - Blue House Dentistry
DESCRIPTION:Join us in a special Ribbon Cutting for our Chamber Member\,\n\nBlue House Dentistry!\n\n\n\nBlue House Dentistry practices state-of-the-art dentistry\, using the most advanced techniques with the goal to provide the best dental care to their patients.
X-ALT-DESC;FMTTYPE=text/html:<span style="color: rgb(0\, 0\, 0)\; font-family: Verdana\, Arial\, Helvetica\, sans-serif\; font-size: 12px\;">Join us in a special Ribbon Cutting for our Chamber Member\,</span><br style="color: rgb(0\, 0\, 0)\; font-family: Verdana\, Arial\, Helvetica\, sans-serif\; font-size: 12px\;" />\n<span style="color: rgb(0\, 0\, 0)\; font-family: Verdana\, Arial\, Helvetica\, sans-serif\; font-size: 12px\;">Blue House Dentistry!</span><br style="color: rgb(0\, 0\, 0)\; font-family: Verdana\, Arial\, Helvetica\, sans-serif\; font-size: 12px\;" />\n<br style="color: rgb(0\, 0\, 0)\; font-family: Verdana\, Arial\, Helvetica\, sans-serif\; font-size: 12px\;" />\n<span style="color: rgb(0\, 0\, 0)\; font-family: Verdana\, Arial\, Helvetica\, sans-serif\; font-size: 12px\;">Blue House Dentistry practices state-of-the-art dentistry\, using the most advanced techniques with the goal to provide the best dental care to their patients.</span>
LOCATION:Blue House Dentistry 318 N Indian Hill Blvd Claremont\, CA 91711
UID:e.838.16164
SEQUENCE:3
DTSTAMP:20260424T095610Z
URL:https://business.claremontchamber.org/events/details/chamber-ribbon-cutting-blue-house-dentistry-16164
END:VEVENT

END:VCALENDAR
