BEGIN:VCALENDAR
VERSION:2.0
PRODID:-//ChamberMaster//Event Calendar 2.0//EN
METHOD:PUBLISH
X-PUBLISHED-TTL:P3D
REFRESH-INTERVAL:P3D
CALSCALE:GREGORIAN
BEGIN:VEVENT
DTSTART:20161221T200000Z
DTEND:20161221T203000Z
X-MICROSOFT-CDO-ALLDAYEVENT:FALSE
SUMMARY:Chamber Ribbon Cutting - Claremont Design Dentistry
DESCRIPTION:Join us in a special Ribbon Cutting for our new Chamber Member\, Claremont Design Dentistry!\n\n\n\nClaremont Design Dentistry prides themselves in providing their patients with the finest quality care in general\, cosmetic and implant dentistry.
X-ALT-DESC;FMTTYPE=text/html:Join us in a special Ribbon Cutting for our new Chamber Member\,&nbsp\;Claremont Design Dentistry!<br />\n<br />\nClaremont Design Dentistry prides&nbsp\;themselves in providing their patients with the finest quality care in general\, cosmetic and implant dentistry.<br />\n<br />\n&nbsp\;
LOCATION:Claremont Design Dentistry 1601 Monte Vista #210 Claremont\, CA 91711
UID:e.838.14113
SEQUENCE:3
DTSTAMP:20260424T200323Z
URL:https://business.claremontchamber.org/events/details/chamber-ribbon-cutting-claremont-design-dentistry-14113
END:VEVENT

END:VCALENDAR
