BEGIN:VCALENDAR
VERSION:2.0
PRODID:-//ChamberMaster//Event Calendar 2.0//EN
METHOD:PUBLISH
X-PUBLISHED-TTL:P3D
REFRESH-INTERVAL:P3D
CALSCALE:GREGORIAN
BEGIN:VEVENT
DTSTART:20161110T013000Z
DTEND:20161110T020000Z
X-MICROSOFT-CDO-ALLDAYEVENT:FALSE
SUMMARY:Chamber Ribbon Cutting - Claremont Pharmacy
DESCRIPTION:Join us in a special Ribbon Cutting for our new Chamber Member\, Claremont Pharmacy!\n\n\n\nClaremont Pharmacy believes no patient should ever be treated like a number. Instead of being hidden behind a counter\, you may find them sitting with a patient to discuss a medication at your local community center\, raising awareness about the importance of being healthy!\n\n\n\nTheir shelves are filled with the most popular wellness supplements and products and they always welcome your special requests. If you're in the Claremont area\, stop by the Claremont Pharmacy!
X-ALT-DESC;FMTTYPE=text/html:<span style="font-size:14px\;"><span style="color:#000000\;"><span _mce_style="color: #403f42\; font-family: Arial\; font-size: 13.3333px\;" style="line-height: normal\;">Join us in a special Ribbon Cutting for our new Chamber Member\,&nbsp\;</span><span _mce_style="font-size: 13.3333px\; font-family: Arial\; color: #403f42\;" style="line-height: normal\;"><strong>Claremont Pharmacy</strong>!</span><br />\n<br />\nClaremont Pharmacy believes no patient should ever be treated like a number. Instead of being hidden behind a counter\, you may find them sitting with a patient to discuss&nbsp\;a medication at your local community center\, raising awareness about the importance of being healthy!</span><br />\n<br />\nTheir shelves are filled with the most popular wellness supplements and products and they always welcome your special requests. If you&#39\;re in the Claremont area\, stop by the Claremont Pharmacy!</span>
LOCATION:Claremont Pharmacy 358 S Indian Hill Blvd Claremont\, CA 91711
UID:e.838.13634
SEQUENCE:3
DTSTAMP:20260424T233231Z
URL:https://business.claremontchamber.org/events/details/chamber-ribbon-cutting-claremont-pharmacy-13634
END:VEVENT

END:VCALENDAR
